BEGIN:VCALENDAR
VERSION:2.0
PRODID:-//hacksw/handcal//NONSGML v1.0//EN
BEGIN:VEVENT
SUMMARY:Stand - Week-end des associations
UID:bcb3afac-85f5-41d6-8b35-491804afaac5
DTSTART:20260613T070000Z
DTEND:20260614T160000Z
LOCATION:Localisation place du capitole  Toulouse
CATEGORIES:Manifestation
STATUS:
DESCRIPTION:<p>Nous proposons un stand pour presenter notre
 association a la journee des associations de TOULOUSE .<br>
 Nous
 serons sur une place avec un Barnum partage avec une autre
 association et auront le plaisir d'avoir sur une table nos Flyers et
 de la disponibilite pour s'y asseoir a deux personnes .<br>
 <br>
 Nous
 cherchons de bonnes ames pour nous y accompagner .</p>
 
 <p>Appel a
 candidats et bonne volonte .<br>
 <br>
 Bonne journee </p>
 
 <p>Lydia,
 Nadia, Bertrand</p>
URL;VALUE=URI:https://www.lesvoilestolosanes.org/evenements/2026/06/13/stand-week-end-des-associations-2443526
END:VEVENT
END:VCALENDAR
